BEGIN:VCALENDAR
VERSION:2.0
PRODID:-//wp-events-plugin.com//7.2.3.1//EN
BEGIN:VEVENT
UID:2@sheila1905.com
DTSTART;VALUE=DATE:20240115
DTEND;VALUE=DATE:20240119
DTSTAMP:20240114T153638Z
URL:https://sheila1905.com/events/120th-season-start/
SUMMARY:120th Season starts
DESCRIPTION:I will be onboard to clean\, check all the equipment\, fix some
  things\, and prepare for the season
END:VEVENT
END:VCALENDAR