BEGIN:VCALENDAR
VERSION:2.0
PRODID:-//wp-events-plugin.com//7.2.3.1//EN
BEGIN:VEVENT
UID:43@sheila1905.com
DTSTART;VALUE=DATE:20260227
DTEND;VALUE=DATE:20260302
DTSTAMP:20250930T163112Z
URL:https://sheila1905.com/events/albert-strange-association-agm/
SUMMARY:Albert Strange Association AGM
DESCRIPTION:
ATTACH;FMTTYPE=image/jpeg:https://sheila1905.com/wp-content/uploads/2024/0
 1/cropped-Logo-512x512-trans.png
END:VEVENT
END:VCALENDAR