BEGIN:VCALENDAR
VERSION:2.0
PRODID:-//wp-events-plugin.com//7.2.3.1//EN
BEGIN:VEVENT
UID:41@sheila1905.com
DTSTART;VALUE=DATE:20260428
DTEND;VALUE=DATE:20260429
DTSTAMP:20260118T152459Z
URL:https://sheila1905.com/events/back-to-the-water-2/
SUMMARY:Back to the water
DESCRIPTION:This date is tentative
ATTACH;FMTTYPE=image/jpeg:https://sheila1905.com/wp-content/uploads/2025/0
 4/IMG-20240507-WA0008.jpg
END:VEVENT
END:VCALENDAR