BEGIN:VCALENDAR
VERSION:2.0
PRODID:-//wp-events-plugin.com//7.2.3.1//EN
BEGIN:VEVENT
UID:11@sheila1905.com
DTSTART;VALUE=DATE:20240503
DTEND;VALUE=DATE:20240504
DTSTAMP:20240421T122740Z
URL:https://sheila1905.com/events/back-to-the-water/
SUMMARY:Back to the water
DESCRIPTION:
END:VEVENT
END:VCALENDAR