BEGIN:VCALENDAR
VERSION:2.0
PRODID:-//wp-events-plugin.com//7.2.3.1//EN
BEGIN:VEVENT
UID:10@sheila1905.com
DTSTART;VALUE=DATE:20240713
DTEND;VALUE=DATE:20240715
DTSTAMP:20240421T122647Z
URL:https://sheila1905.com/events/crew-training/
SUMMARY:Crew training
DESCRIPTION:
END:VEVENT
END:VCALENDAR