BEGIN:VCALENDAR
VERSION:2.0
PRODID:-//wp-events-plugin.com//7.2.3.1//EN
BEGIN:VEVENT
UID:9@sheila1905.com
DTSTART;VALUE=DATE:20240506
DTEND;VALUE=DATE:20240518
DTSTAMP:20240304T183021Z
URL:https://sheila1905.com/events/crew-welcome-2/
SUMMARY:Crew welcome
DESCRIPTION:
END:VEVENT
END:VCALENDAR