BEGIN:VCALENDAR
VERSION:2.0
PRODID:-//wp-events-plugin.com//7.2.3.1//EN
BEGIN:VEVENT
UID:20@sheila1905.com
DTSTART;VALUE=DATE:20241020
DTEND;VALUE=DATE:20241021
DTSTAMP:20241014T062220Z
URL:https://sheila1905.com/events/design-anniversary-2024-10-20/
SUMMARY:Design anniversary
DESCRIPTION:Albert Strange signed the design of Sheila on October 20\, 1903
 .
ATTACH;FMTTYPE=image/jpeg:https://sheila1905.com/wp-content/uploads/2024/1
 0/plan-groves-scaled.jpg
END:VEVENT
END:VCALENDAR