BEGIN:VCALENDAR
VERSION:2.0
PRODID:-//wp-events-plugin.com//7.2.3.1//EN
BEGIN:VEVENT
UID:33@sheila1905.com
DTSTART;VALUE=DATE:20250719
DTEND;VALUE=DATE:20250721
DTSTAMP:20250312T213217Z
URL:https://sheila1905.com/events/grande-regate-de-port-navalo/
SUMMARY:Grande régate de Port Navalo
DESCRIPTION:Unfortunately\, Sheila will not attend this year.\n\n
ATTACH;FMTTYPE=image/jpeg:https://sheila1905.com/wp-content/uploads/2024/0
 7/IMG_0089.jpeg
END:VEVENT
END:VCALENDAR