BEGIN:VCALENDAR
VERSION:2.0
PRODID:-//wp-events-plugin.com//7.2.3.1//EN
BEGIN:VEVENT
UID:44@sheila1905.com
DTSTART;VALUE=DATE:20260725
DTEND;VALUE=DATE:20260727
DTSTAMP:20251119T153720Z
URL:https://sheila1905.com/events/grandes-regates-de-port-navalo-2/
SUMMARY:Grandes Régates de Port-Navalo
DESCRIPTION:
ATTACH;FMTTYPE=image/jpeg:https://sheila1905.com/wp-content/uploads/2025/1
 1/D_tick-carre-sans-date.jpg
END:VEVENT
END:VCALENDAR