BEGIN:VCALENDAR
VERSION:2.0
PRODID:-//wp-events-plugin.com//7.2.3.1//EN
BEGIN:VEVENT
UID:3@sheila1905.com
DTSTART;VALUE=DATE:20240720
DTEND;VALUE=DATE:20240722
DTSTAMP:20240114T102317Z
URL:https://sheila1905.com/events/grandes-regates-de-port-navalo/
SUMMARY:Grandes Régates de Port-Navalo
DESCRIPTION:My intention is that Sheila can be part of this event.\n\n
END:VEVENT
END:VCALENDAR