BEGIN:VCALENDAR
VERSION:2.0
PRODID:-//wp-events-plugin.com//7.2.3.1//EN
BEGIN:VEVENT
UID:1@sheila1905.com
DTSTART;VALUE=DATE:20240124
DTEND;VALUE=DATE:20240128
DTSTAMP:20240114T095720Z
URL:https://sheila1905.com/events/hull-cleaning/
SUMMARY:Hull Cleaning
DESCRIPTION:Sheila will be lifted out of the water. She will be cleaned\, H
 er shipwright will inspect her and I will put 2 fresh coats of antifouling
  paint. Then she will be back to the water for 120th season.
END:VEVENT
END:VCALENDAR