BEGIN:VCALENDAR
VERSION:2.0
PRODID:-//wp-events-plugin.com//7.2.3.1//EN
BEGIN:VEVENT
UID:15@sheila1905.com
DTSTART;VALUE=DATE:20240815
DTEND;VALUE=DATE:20240820
DTSTAMP:20240819T132730Z
URL:https://sheila1905.com/events/in-la-trinite-to-race/
SUMMARY:In La Trinité to race
DESCRIPTION:
END:VEVENT
END:VCALENDAR