BEGIN:VCALENDAR
VERSION:2.0
PRODID:-//wp-events-plugin.com//7.2.3.1//EN
BEGIN:VEVENT
UID:46@sheila1905.com
DTSTART;VALUE=DATE:20260824
DTEND;VALUE=DATE:20260831
DTSTAMP:20251124T071606Z
URL:https://sheila1905.com/events/la-balade-des-iles/
SUMMARY:La balade des îles
DESCRIPTION:\nL’association Fête du Vent et de la Mer (FVEM) en partenar
 iat avec le Yacht Club Classique (YCC) et le Yacht Club de France (YCF) or
 ganise un rallye\, La balade des îles\, de la rade de Lorient vers Groix
 \, Belle-Ile\, Houat et le golfe du Morbihan entre le 24 et le 30 août 20
 26.\nLa participation à cette balade nautique est ouverte à 20 voiliers 
 classiques. L’objectif est de naviguer en flottille dans une ambiance  
 familiale et conviviale sur des étapes de 20 à 30 milles\, avec des esca
 les qui permettent des visites et des repas à terre.\nLes pré-inscriptio
 ns seront ouvertes dans le courant du mois de décembre\,
ATTACH;FMTTYPE=image/jpeg:https://sheila1905.com/wp-content/uploads/2025/1
 1/IMG_0559.jpeg
END:VEVENT
END:VCALENDAR