BEGIN:VCALENDAR
VERSION:2.0
PRODID:-//wp-events-plugin.com//7.2.3.1//EN
BEGIN:VEVENT
UID:16@sheila1905.com
DTSTART;VALUE=DATE:20240820
DTEND;VALUE=DATE:20240831
DTSTAMP:20240804T072821Z
URL:https://sheila1905.com/events/late-summer-sailing/
SUMMARY:Late Summer sailing
DESCRIPTION:
END:VEVENT
END:VCALENDAR