BEGIN:VCALENDAR
VERSION:2.0
PRODID:-//wp-events-plugin.com//7.2.3.1//EN
BEGIN:VEVENT
UID:35@sheila1905.com
DTSTART;VALUE=DATE:20250429
DTEND;VALUE=DATE:20250430
DTSTAMP:20250405T064210Z
URL:https://sheila1905.com/events/launch/
SUMMARY:Launch
DESCRIPTION:
ATTACH;FMTTYPE=image/jpeg:https://sheila1905.com/wp-content/uploads/2025/0
 4/IMG-20240507-WA0008.jpg
END:VEVENT
END:VCALENDAR