BEGIN:VCALENDAR
VERSION:2.0
PRODID:-//wp-events-plugin.com//7.2.3.1//EN
BEGIN:VEVENT
UID:7@sheila1905.com
DTSTART;VALUE=DATE:20240215
DTEND;VALUE=DATE:20240316
DTSTAMP:20240218T173835Z
URL:https://sheila1905.com/events/main-sail-is-getting-clean/
SUMMARY:Main sail is getting cleaner
DESCRIPTION:No sailing until mid-March but Sheila will be pretty for Spring
 .
END:VEVENT
END:VCALENDAR