BEGIN:VCALENDAR
VERSION:2.0
PRODID:-//wp-events-plugin.com//7.2.3.1//EN
BEGIN:VEVENT
UID:40@sheila1905.com
DTSTART;VALUE=DATE:20251113
DTEND;VALUE=DATE:20251114
DTSTAMP:20250930T163523Z
URL:https://sheila1905.com/events/out-for-winter/
SUMMARY:Out for Winter
DESCRIPTION:
ATTACH;FMTTYPE=image/jpeg:https://sheila1905.com/wp-content/uploads/2024/0
 4/20240416_133806-scaled.jpg
END:VEVENT
END:VCALENDAR