BEGIN:VCALENDAR
VERSION:2.0
PRODID:-//wp-events-plugin.com//7.2.3.1//EN
BEGIN:VEVENT
UID:32@sheila1905.com
DTSTART;VALUE=DATE:20250619
DTEND;VALUE=DATE:20250623
DTSTAMP:20250312T213107Z
URL:https://sheila1905.com/events/rendez-vous-de-la-belle-plaisance-benode
 t/
SUMMARY:Rendez-vous de la Belle Plaisance - Bénodet
DESCRIPTION:It is very unlikely Sheila can attend.
ATTACH;FMTTYPE=image/jpeg:https://sheila1905.com/wp-content/uploads/2024/1
 1/logo-bp-3-copie.gif
END:VEVENT
END:VCALENDAR