BEGIN:VCALENDAR
VERSION:2.0
PRODID:-//wp-events-plugin.com//7.2.3.1//EN
BEGIN:VEVENT
UID:17@sheila1905.com
DTSTART;VALUE=DATE:20241007
DTEND;VALUE=DATE:20241014
DTSTAMP:20240909T075819Z
URL:https://sheila1905.com/events/sailing-crew-welcome/
SUMMARY:Sailing - crew welcome
DESCRIPTION:
END:VEVENT
END:VCALENDAR