BEGIN:VCALENDAR
VERSION:2.0
PRODID:-//wp-events-plugin.com//7.2.3.1//EN
BEGIN:VEVENT
UID:5@sheila1905.com
DTSTART;VALUE=DATE:20240201
DTEND;VALUE=DATE:20240203
DTSTAMP:20240128T203906Z
URL:https://sheila1905.com/events/sailing-weather-permitting/
SUMMARY:Sailing (weather permitting)
DESCRIPTION:
END:VEVENT
END:VCALENDAR