BEGIN:VCALENDAR
VERSION:2.0
PRODID:-//wp-events-plugin.com//7.2.3.1//EN
BEGIN:VEVENT
UID:6@sheila1905.com
DTSTART;VALUE=DATE:20240213
DTEND;VALUE=DATE:20240218
DTSTAMP:20240131T203837Z
URL:https://sheila1905.com/events/sailing-with-stephane-weather-permitting
 /
SUMMARY:Sailing with Stéphane (weather permitting)
DESCRIPTION:
END:VEVENT
END:VCALENDAR