BEGIN:VCALENDAR
VERSION:2.0
PRODID:-//wp-events-plugin.com//7.2.3.1//EN
BEGIN:VEVENT
UID:38@sheila1905.com
DTSTART;VALUE=DATE:20270503
DTEND;VALUE=DATE:20270510
DTSTAMP:20250918T115417Z
URL:https://sheila1905.com/events/semaine-du-golfe-2/
SUMMARY:Semaine du Golfe
DESCRIPTION:
ATTACH;FMTTYPE=image/jpeg:https://sheila1905.com/wp-content/uploads/2025/0
 9/IMG_0532.jpeg
END:VEVENT
END:VCALENDAR