BEGIN:VCALENDAR
VERSION:2.0
PRODID:-//wp-events-plugin.com//7.2.3.1//EN
BEGIN:VEVENT
UID:4@sheila1905.com
DTSTART;VALUE=DATE:20250526
DTEND;VALUE=DATE:20250602
DTSTAMP:20241103T173307Z
URL:https://sheila1905.com/events/semaine-du-golfe/
SUMMARY:Semaine du Golfe
DESCRIPTION:Sheila is preparing for the Golfe du Morbihan week festival tha
 t is taking place every other year. She will sail in Flotilla J. I intent 
 to participate with a Vincent\, potentially with rotations\, so that we ca
 n be 3 when sailing\, but 2 at night.
ATTACH;FMTTYPE=image/jpeg:https://sheila1905.com/wp-content/uploads/2024/0
 9/capture-decran-2024-09-27-091604.png
END:VEVENT
END:VCALENDAR