BEGIN:VCALENDAR
VERSION:2.0
PRODID:-//wp-events-plugin.com//7.2.3.1//EN
BEGIN:VEVENT
UID:49@sheila1905.com
DTSTART;VALUE=DATE:20260323
DTEND;VALUE=DATE:20260329
DTSTAMP:20260118T154117Z
URL:https://sheila1905.com/events/semaine-preparation-saison-2026/
SUMMARY:Semaine préparation saison 2026
DESCRIPTION:
ATTACH;FMTTYPE=image/jpeg:https://sheila1905.com/wp-content/uploads/2026/0
 1/IMG-20240507-WA0028.jpg
END:VEVENT
END:VCALENDAR