BEGIN:VCALENDAR
VERSION:2.0
PRODID:-//wp-events-plugin.com//7.2.3.1//EN
BEGIN:VEVENT
UID:12@sheila1905.com
DTSTART;VALUE=DATE:20241105
DTEND;VALUE=DATE:20241106
DTSTAMP:20240909T075913Z
URL:https://sheila1905.com/events/sheila-to-be-hoisted-out/
SUMMARY:Sheila to be hoisted out
DESCRIPTION:
END:VEVENT
END:VCALENDAR