BEGIN:VCALENDAR
VERSION:2.0
PRODID:-//wp-events-plugin.com//7.2.3.1//EN
BEGIN:VEVENT
UID:37@sheila1905.com
DTSTART;VALUE=DATE:20250723
DTEND;VALUE=DATE:20250724
DTSTAMP:20250529T104024Z
URL:https://sheila1905.com/events/sheilas-birthday/
SUMMARY:Sheila’s Birthday
DESCRIPTION:
ATTACH;FMTTYPE=image/jpeg:https://sheila1905.com/wp-content/uploads/2025/0
 3/IMG_0382.jpeg
END:VEVENT
END:VCALENDAR