BEGIN:VCALENDAR
VERSION:2.0
PRODID:-//wp-events-plugin.com//7.2.3.1//EN
BEGIN:VEVENT
UID:39@sheila1905.com
DTSTART:20251111T000000Z
DTEND:20251111T235900Z
DTSTAMP:20250930T160531Z
URL:https://sheila1905.com/events/stability-test/
SUMMARY:Stability test
DESCRIPTION:
END:VEVENT
END:VCALENDAR