BEGIN:VCALENDAR
VERSION:2.0
PRODID:-//wp-events-plugin.com//7.2.3.1//EN
BEGIN:VEVENT
UID:14@sheila1905.com
DTSTART;VALUE=DATE:20240723
DTEND;VALUE=DATE:20240831
DTSTAMP:20240804T072557Z
URL:https://sheila1905.com/events/summer-sailing/
SUMMARY:Summer sailing
DESCRIPTION:subject to there being a Britanny Summer ...
END:VEVENT
END:VCALENDAR