BEGIN:VCALENDAR
VERSION:2.0
PRODID:-//wp-events-plugin.com//7.2.3.1//EN
BEGIN:VEVENT
UID:31@sheila1905.com
DTSTART;VALUE=DATE:20250305
DTEND;VALUE=DATE:20250306
DTSTAMP:20241022T163404Z
URL:https://sheila1905.com/events/target-relaunch-date/
SUMMARY:Target relaunch date
DESCRIPTION:
END:VEVENT
END:VCALENDAR