BEGIN:VCALENDAR
VERSION:2.0
PRODID:-//wp-events-plugin.com//7.2.3.1//EN
BEGIN:VEVENT
UID:42@sheila1905.com
DTSTART;VALUE=DATE:20260731
DTEND;VALUE=DATE:20260805
DTSTAMP:20250930T161926Z
URL:https://sheila1905.com/events/voiles-de-legende-la-baule-2/
SUMMARY:Voiles de Légende - La Baule
DESCRIPTION:
ATTACH;FMTTYPE=image/jpeg:https://sheila1905.com/wp-content/uploads/2025/0
 8/IMG-20250726-WA0002.jpg
END:VEVENT
END:VCALENDAR