BEGIN:VCALENDAR
VERSION:2.0
PRODID:-//wp-events-plugin.com//7.2.3.1//EN
BEGIN:VEVENT
UID:34@sheila1905.com
DTSTART;VALUE=DATE:20250726
DTEND;VALUE=DATE:20250731
DTSTAMP:20250405T063110Z
URL:https://sheila1905.com/events/voiles-de-legende-la-baule/
SUMMARY:Voiles de Légende - La Baule
DESCRIPTION:I plan to attend\, with an international crew
ATTACH;FMTTYPE=image/jpeg:https://sheila1905.com/wp-content/uploads/2025/0
 4/Yacht-Club-de-la-Baule-Yacht-Club-de-la-Baule.png
END:VEVENT
END:VCALENDAR